BEGIN:VCALENDAR
VERSION:2.0
PRODID:-//Tukios.com/
BEGIN:VEVENT
UID:d3654265-8b88-41f5-a47d-ad0a47b0c00d@www.laynesfuneralservices.com
DTSTAMP:20260424T022529Z
DTSTART:20260429T203000Z
DTEND:20260429T213000Z
SUMMARY:Graveside Service
DESCRIPTION:
URL:https://www.laynesfuneralservices.com/obituaries/josephine-wood
LOCATION:Willamette National Cemetery 11800 SE Mt Scott Blvd  Happy 
	Valley OR 97086
GEO:45.459503;-122.5426447
END:VEVENT
END:VCALENDAR