BEGIN:VCALENDAR
VERSION:2.0
PRODID:-//Tukios.com/
BEGIN:VEVENT
UID:13c46551-dfe8-4429-8120-a8f5fd8f4fa8@www.laynesfuneralservices.com
DTSTAMP:20260424T022026Z
DTSTART:20260429T170000Z
DTEND:20260429T183000Z
SUMMARY:Funeral Service
DESCRIPTION:
URL:https://www.laynesfuneralservices.com/obituaries/josephine-wood
LOCATION: PO Box 7  Battle Ground WA 98604
GEO:45.7808725;-122.5373651
END:VEVENT
END:VCALENDAR