BEGIN:VCALENDAR
VERSION:2.0
PRODID:-//Tukios.com/
BEGIN:VEVENT
UID:a25f19ff-b907-4f12-9985-ab9c7f14aee9@www.laynesfuneralservices.com
DTSTAMP:20260424T022122Z
DTSTART:20260502T210000Z
DTEND:20260502T220000Z
SUMMARY:Memorial Service
DESCRIPTION:
URL:https://www.laynesfuneralservices.com/obituaries/jacob-roest
LOCATION:Columbia Presbyterian Church 8715 Saint Helens Avenue  Vancouver 
	WA 98664
GEO:45.6155701;-122.5815827
END:VEVENT
END:VCALENDAR